BEGIN:VCALENDAR
VERSION:2.0
PRODID:-//The Honourable Society of Cymmrodorion - ECPv6.15.17//NONSGML v1.0//EN
CALSCALE:GREGORIAN
METHOD:PUBLISH
X-ORIGINAL-URL:https://www.cymmrodorion.org
X-WR-CALDESC:Events for The Honourable Society of Cymmrodorion
REFRESH-INTERVAL;VALUE=DURATION:PT1H
X-Robots-Tag:noindex
X-PUBLISHED-TTL:PT1H
BEGIN:VTIMEZONE
TZID:Europe/London
BEGIN:DAYLIGHT
TZOFFSETFROM:+0000
TZOFFSETTO:+0100
TZNAME:BST
DTSTART:20250330T010000
END:DAYLIGHT
BEGIN:STANDARD
TZOFFSETFROM:+0100
TZOFFSETTO:+0000
TZNAME:GMT
DTSTART:20251026T010000
END:STANDARD
BEGIN:DAYLIGHT
TZOFFSETFROM:+0000
TZOFFSETTO:+0100
TZNAME:BST
DTSTART:20260329T010000
END:DAYLIGHT
BEGIN:STANDARD
TZOFFSETFROM:+0100
TZOFFSETTO:+0000
TZNAME:GMT
DTSTART:20261025T010000
END:STANDARD
BEGIN:DAYLIGHT
TZOFFSETFROM:+0000
TZOFFSETTO:+0100
TZNAME:BST
DTSTART:20270328T010000
END:DAYLIGHT
BEGIN:STANDARD
TZOFFSETFROM:+0100
TZOFFSETTO:+0000
TZNAME:GMT
DTSTART:20271031T010000
END:STANDARD
END:VTIMEZONE
BEGIN:VEVENT
DTSTART;TZID=Europe/London:20260317T183000
DTEND;TZID=Europe/London:20260317T203000
DTSTAMP:20260425T114300
CREATED:20260220T102145Z
LAST-MODIFIED:20260323T084015Z
UID:9820-1773772200-1773779400@www.cymmrodorion.org
SUMMARY:Wales Matters: A higher education system in Wales or for Wales? The crisis facing Welsh universities.
DESCRIPTION:The financial and other challenges facing universities in Wales\, as in the UK more generally\, have been widely reported. The solutions are more difficult to determine and are the subject of extensive discussion. In this session of Wales Matters\, Professor Dylan Jones-Evans\, who has been a notable contributor to the debate over higher education in Wales on the BBC\, ITV and S4C\, online\, and through his for the Daily Post and Western Mail\, will offer some thoughts\, for discussion\, on the options. \nDylan Jones-Evans has held senior positions in several universities including Cardiff\, Bangor\, UWE Bristol and South Wales and is Visiting Professor at Turku University and Aston University. He is well-known as a passionate advocate of entrepreneurship in the Welsh economy and as the co-founder of the IDEAS community\, home of the UK Fast Growth Index\, the UK Startup Awards\, and the Wales Start-up Awards among others. He is currently developing a new enterprise centre at Bodlondeb\, Conwy to support young people into business. \nThe event will offer you the opportunity to bring your own insights on this challenging period in Welsh higher education.\nBook ahead for ONLINE or IN PERSON at the London Welsh Centre. \nFree but you are invited to give an optional donation to LWC.\nThose joining online will be sent a link before the event. \nBook online here
URL:https://www.cymmrodorion.org/talk/wales-matters-a-higher-education-system-in-wales-or-for-wales-the-crisis-facing-welsh-universities/
LOCATION:London Welsh Centre\, London Welsh Centre\, 157-163 Grays Inn Rd\, London\, WC1X 8UE
ATTACH;FMTTYPE=image/jpeg:https://www.cymmrodorion.org/wp-content/uploads/2026/02/Dylan-Jones.jpg
END:VEVENT
END:VCALENDAR