BEGIN:VCALENDAR
VERSION:2.0
PRODID:-//The Honourable Society of Cymmrodorion - ECPv6.15.17//NONSGML v1.0//EN
CALSCALE:GREGORIAN
METHOD:PUBLISH
X-ORIGINAL-URL:https://www.cymmrodorion.org
X-WR-CALDESC:Events for The Honourable Society of Cymmrodorion
REFRESH-INTERVAL;VALUE=DURATION:PT1H
X-Robots-Tag:noindex
X-PUBLISHED-TTL:PT1H
BEGIN:VTIMEZONE
TZID:Europe/London
BEGIN:DAYLIGHT
TZOFFSETFROM:+0000
TZOFFSETTO:+0100
TZNAME:BST
DTSTART:20240331T010000
END:DAYLIGHT
BEGIN:STANDARD
TZOFFSETFROM:+0100
TZOFFSETTO:+0000
TZNAME:GMT
DTSTART:20241027T010000
END:STANDARD
BEGIN:DAYLIGHT
TZOFFSETFROM:+0000
TZOFFSETTO:+0100
TZNAME:BST
DTSTART:20250330T010000
END:DAYLIGHT
BEGIN:STANDARD
TZOFFSETFROM:+0100
TZOFFSETTO:+0000
TZNAME:GMT
DTSTART:20251026T010000
END:STANDARD
BEGIN:DAYLIGHT
TZOFFSETFROM:+0000
TZOFFSETTO:+0100
TZNAME:BST
DTSTART:20260329T010000
END:DAYLIGHT
BEGIN:STANDARD
TZOFFSETFROM:+0100
TZOFFSETTO:+0000
TZNAME:GMT
DTSTART:20261025T010000
END:STANDARD
END:VTIMEZONE
BEGIN:VEVENT
DTSTART;TZID=Europe/London:20251209T183000
DTEND;TZID=Europe/London:20251209T200000
DTSTAMP:20260425T174320
CREATED:20251027T101730Z
LAST-MODIFIED:20251217T163003Z
UID:9644-1765305000-1765310400@www.cymmrodorion.org
SUMMARY:Wales Matters: The new Political Landscape in Wales
DESCRIPTION:Will Hayward: Guardian columnist on Wales\, author and publisher of the award-winning The Will Hayward Newsletter on Wales. \nBook a place below to join IN PERSON  at the London Welsh Centre\, 57-163 Grays Inn Rd\, London WC1X 8UE or LIVE ONLINE. \nBook your place here…
URL:https://www.cymmrodorion.org/talk/wales-matters-the-new-political-landscape-in-wales/
LOCATION:The London Welsh Centre\, 157-163 Grays inn Road\, London\, WC1X 8UE\, United Kingdom
ATTACH;FMTTYPE=image/jpeg:https://www.cymmrodorion.org/wp-content/uploads/2025/10/Pic-of-Will-Hayward.jpg
END:VEVENT
END:VCALENDAR