BEGIN:VCALENDAR
VERSION:2.0
PRODID:-//The Honourable Society of Cymmrodorion - ECPv6.15.17//NONSGML v1.0//EN
CALSCALE:GREGORIAN
METHOD:PUBLISH
X-ORIGINAL-URL:https://www.cymmrodorion.org
X-WR-CALDESC:Events for The Honourable Society of Cymmrodorion
REFRESH-INTERVAL;VALUE=DURATION:PT1H
X-Robots-Tag:noindex
X-PUBLISHED-TTL:PT1H
BEGIN:VTIMEZONE
TZID:Europe/London
BEGIN:DAYLIGHT
TZOFFSETFROM:+0000
TZOFFSETTO:+0100
TZNAME:BST
DTSTART:20240331T010000
END:DAYLIGHT
BEGIN:STANDARD
TZOFFSETFROM:+0100
TZOFFSETTO:+0000
TZNAME:GMT
DTSTART:20241027T010000
END:STANDARD
BEGIN:DAYLIGHT
TZOFFSETFROM:+0000
TZOFFSETTO:+0100
TZNAME:BST
DTSTART:20250330T010000
END:DAYLIGHT
BEGIN:STANDARD
TZOFFSETFROM:+0100
TZOFFSETTO:+0000
TZNAME:GMT
DTSTART:20251026T010000
END:STANDARD
BEGIN:DAYLIGHT
TZOFFSETFROM:+0000
TZOFFSETTO:+0100
TZNAME:BST
DTSTART:20260329T010000
END:DAYLIGHT
BEGIN:STANDARD
TZOFFSETFROM:+0100
TZOFFSETTO:+0000
TZNAME:GMT
DTSTART:20261025T010000
END:STANDARD
END:VTIMEZONE
BEGIN:VEVENT
DTSTART;TZID=Europe/London:20250317T063000
DTEND;TZID=Europe/London:20250317T200000
DTSTAMP:20260420T141902
CREATED:20250224T101423Z
LAST-MODIFIED:20250224T101536Z
UID:9244-1742193000-1742241600@www.cymmrodorion.org
SUMMARY:Wales in the Media
DESCRIPTION:The next talk in the Wales Matters series looking at contemporary issues of importance to Wales will focus on the information the Welsh public obtains through the news media available to it.  \nIfan Morgan Jones\nHead of Digital Media\, S4C \nMonday 17th March\, 6.30 for 7pm\nLondon Welsh Centre\, 157 Gray’s Inn Road\, London WC1X 8UE \nSocial media has cut a swathe through previous methods of news dissemination to the detriment of traditional news sources. How much has been lost with the decline of the printed media and of traditional broadcasting and how well is the Welsh public being served by online providers at a time when there are many issues crucial to the future of Wales as a society to be discussed? \nIn a globalised world dominated by large corporations is there still room and indeed an appetite for a Welsh voice and if not\, what threat does this pose to participative democracy in small territories such as Wales? \nThese and other issues will be discussed by our speaker Ifan Morgan Jones\, founder of Nation.Cymru and now Head of Digital Media at S4C. If you believe this is one of the key issues facing modern Wales\, do come along to hear the talk and join the debate.\nAll are welcome.  Admission is free but please book here.  \nWales Matters is a joint initiative of the Cymmrodorion\, the London Welsh Centre and Wales in London. Previous talks have focused on Wales’s Competitiveness\, Education\, the Crisis in the Arts\, and Devolution.
URL:https://www.cymmrodorion.org/talk/wales-in-the-media/
LOCATION:The London Welsh Centre\, 157-163 Grays inn Road\, London\, WC1X 8UE\, United Kingdom
ATTACH;FMTTYPE=image/jpeg:https://www.cymmrodorion.org/wp-content/uploads/2025/02/Ifan-Morgan-Jones.jpg
END:VEVENT
END:VCALENDAR