BEGIN:VCALENDAR
VERSION:2.0
PRODID:-//The Honourable Society of Cymmrodorion - ECPv6.15.17//NONSGML v1.0//EN
CALSCALE:GREGORIAN
METHOD:PUBLISH
X-WR-CALNAME:The Honourable Society of Cymmrodorion
X-ORIGINAL-URL:https://www.cymmrodorion.org
X-WR-CALDESC:Events for The Honourable Society of Cymmrodorion
REFRESH-INTERVAL;VALUE=DURATION:PT1H
X-Robots-Tag:noindex
X-PUBLISHED-TTL:PT1H
BEGIN:VTIMEZONE
TZID:Europe/London
BEGIN:DAYLIGHT
TZOFFSETFROM:+0000
TZOFFSETTO:+0100
TZNAME:BST
DTSTART:20240331T010000
END:DAYLIGHT
BEGIN:STANDARD
TZOFFSETFROM:+0100
TZOFFSETTO:+0000
TZNAME:GMT
DTSTART:20241027T010000
END:STANDARD
BEGIN:DAYLIGHT
TZOFFSETFROM:+0000
TZOFFSETTO:+0100
TZNAME:BST
DTSTART:20250330T010000
END:DAYLIGHT
BEGIN:STANDARD
TZOFFSETFROM:+0100
TZOFFSETTO:+0000
TZNAME:GMT
DTSTART:20251026T010000
END:STANDARD
BEGIN:DAYLIGHT
TZOFFSETFROM:+0000
TZOFFSETTO:+0100
TZNAME:BST
DTSTART:20260329T010000
END:DAYLIGHT
BEGIN:STANDARD
TZOFFSETFROM:+0100
TZOFFSETTO:+0000
TZNAME:GMT
DTSTART:20261025T010000
END:STANDARD
END:VTIMEZONE
BEGIN:VEVENT
DTSTART;TZID=Europe/London:20250220T183000
DTEND;TZID=Europe/London:20250220T203000
DTSTAMP:20260420T154920
CREATED:20240802T070810Z
LAST-MODIFIED:20250224T100906Z
UID:8525-1740076200-1740083400@www.cymmrodorion.org
SUMMARY:Tigers and Dragons: Exhibiting India and Wales
DESCRIPTION:Dr Zehra Jumabhoy\nLecturer\, History of Art\, University of Bristol \nPeter Bennett-Jones CBE\, President of the Montgomeryshire Society in the chair \nIn association with the Montgomeryshire Society
URL:https://www.cymmrodorion.org/talk/tigers-and-dragons-exhibiting-india-and-wales/
LOCATION:The Medical Society of London\, 11 Chandos Street\, London\, W1G 9EB\, United Kingdom
ATTACH;FMTTYPE=image/jpeg:https://www.cymmrodorion.org/wp-content/uploads/2024/07/Tigers-and-Dragons-Exhibiting-India-and-Wales-20th-Feburary-2025.jpg
END:VEVENT
END:VCALENDAR