BEGIN:VCALENDAR
VERSION:2.0
PRODID:-//The Honourable Society of Cymmrodorion - ECPv6.15.17//NONSGML v1.0//EN
CALSCALE:GREGORIAN
METHOD:PUBLISH
X-ORIGINAL-URL:https://www.cymmrodorion.org
X-WR-CALDESC:Events for The Honourable Society of Cymmrodorion
REFRESH-INTERVAL;VALUE=DURATION:PT1H
X-Robots-Tag:noindex
X-PUBLISHED-TTL:PT1H
BEGIN:VTIMEZONE
TZID:Europe/London
BEGIN:DAYLIGHT
TZOFFSETFROM:+0000
TZOFFSETTO:+0100
TZNAME:BST
DTSTART:20240331T010000
END:DAYLIGHT
BEGIN:STANDARD
TZOFFSETFROM:+0100
TZOFFSETTO:+0000
TZNAME:GMT
DTSTART:20241027T010000
END:STANDARD
BEGIN:DAYLIGHT
TZOFFSETFROM:+0000
TZOFFSETTO:+0100
TZNAME:BST
DTSTART:20250330T010000
END:DAYLIGHT
BEGIN:STANDARD
TZOFFSETFROM:+0100
TZOFFSETTO:+0000
TZNAME:GMT
DTSTART:20251026T010000
END:STANDARD
BEGIN:DAYLIGHT
TZOFFSETFROM:+0000
TZOFFSETTO:+0100
TZNAME:BST
DTSTART:20260329T010000
END:DAYLIGHT
BEGIN:STANDARD
TZOFFSETFROM:+0100
TZOFFSETTO:+0000
TZNAME:GMT
DTSTART:20261025T010000
END:STANDARD
BEGIN:DAYLIGHT
TZOFFSETFROM:+0000
TZOFFSETTO:+0100
TZNAME:BST
DTSTART:20270328T010000
END:DAYLIGHT
BEGIN:STANDARD
TZOFFSETFROM:+0100
TZOFFSETTO:+0000
TZNAME:GMT
DTSTART:20271031T010000
END:STANDARD
END:VTIMEZONE
BEGIN:VEVENT
DTSTART;TZID=Europe/London:20250805T150000
DTEND;TZID=Europe/London:20250805T160000
DTSTAMP:20260426T003828
CREATED:20250414T131440Z
LAST-MODIFIED:20260309T095333Z
UID:9331-1754406000-1754409600@www.cymmrodorion.org
SUMMARY:Amgyffred yr Amgylchedd yn Oes Gerallt Gymro / Perceptions of the Environment in the Age of Gerald of Wales
DESCRIPTION:Yr Athro Huw Pryce FRHistS FLSW\nAthro Emeritws Hanes Cymru\, Prifysgol Bangor \nProfessor Huw Pryce FRHistS FLSW\nProfessor Emeritus of Welsh History\, Bangor University \nAwyr iachus Maenor-bŷr\, afancod Afon Teifi\, mynyddoedd geirwon Meirionnydd: dyna ond ychydig o agweddau ar hinsawdd\, natur a thirwedd Cymru a ddisgrifiwyd yn llawnach nag erioed o’r blaen gan yr awdur Lladin toreithiog Gerallt Gymro (c.1146–c.1223). Eto\, er mor fyw yw’r disgrifiadau arloesol hyn\, prin eu bod yn gyflawn\, gan eu bod yn adlewyrchu safbwynt eglwyswr dysgedig a rannai uchelgais drefedigaethol ei berthnasau yn y Mers. Bydd y ddarlith hon yn trafod arwyddocâd gweithiau Gerallt fel ffynhonnell ar gyfer deall yr amgylchedd yng Nghymru’r oesoedd canol. \nThe healthy air of Manorbier\, the beavers of the River Teifi\, the rugged mountains of Meirionnydd: those are only a few aspects of Wales’s climate\, nature and landscape that were described more fully than ever before by the prolific Latin author Gerald of Wales (c.1146–c.1223). Yet\, notwithstanding the liveliness of these pioneering descriptions\, they are far from comprehensive\, as they reflect the perspective of a learned churchman who shared the colonizing ambitions of his Marcher relatives. This lecture will discuss the significance of Gerald’s writings as a source for understanding the environment in medieval Wales. \nSimultaneous translation into English will be provided
URL:https://www.cymmrodorion.org/talk/perceptions-of-the-environment-in-the-age-of-gerald-of-wales/
LOCATION:Maes yr Eisteddfod – Wrecsam\, Cymdeithasau 1\, Wrecsam\, United Kingdom
ATTACH;FMTTYPE=image/jpeg:https://www.cymmrodorion.org/wp-content/uploads/2025/04/Perceptions-of-the-Environment-in-the-Age-of-Gerald-of-Wales.jpg
END:VEVENT
BEGIN:VEVENT
DTSTART;TZID=Europe/London:20250925T183000
DTEND;TZID=Europe/London:20250925T200000
DTSTAMP:20260426T003828
CREATED:20250724T122743Z
LAST-MODIFIED:20251215T153319Z
UID:9464-1758825000-1758830400@www.cymmrodorion.org
SUMMARY:Welsh National Identity and the Second World War
DESCRIPTION:Professor Martin Johnes\nSwansea University
URL:https://www.cymmrodorion.org/talk/welsh-national-identity-second-world-war/
LOCATION:The Medical Society of London\, 11 Chandos Street\, London\, W1G 9EB\, United Kingdom
ATTACH;FMTTYPE=image/jpeg:https://www.cymmrodorion.org/wp-content/uploads/2025/07/Welsh-National-Identity-WWII-Martin-Johnes.jpg
END:VEVENT
BEGIN:VEVENT
DTSTART;TZID=Europe/London:20251023T183000
DTEND;TZID=Europe/London:20251023T200000
DTSTAMP:20260426T003828
CREATED:20250724T123939Z
LAST-MODIFIED:20251215T151538Z
UID:9465-1761244200-1761249600@www.cymmrodorion.org
SUMMARY:Rediscovering Roman West Wales
DESCRIPTION:﻿\n \nDr Mark Merrony\nWolfson College\, Oxford
URL:https://www.cymmrodorion.org/talk/rediscovering-roman-west-wales/
LOCATION:The Medical Society of London\, 11 Chandos Street\, London\, W1G 9EB\, United Kingdom
ATTACH;FMTTYPE=image/jpeg:https://www.cymmrodorion.org/wp-content/uploads/2025/07/Roman-West-Wales-Mark-Merrony.jpg
END:VEVENT
BEGIN:VEVENT
DTSTART;TZID=Europe/London:20251112T183000
DTEND;TZID=Europe/London:20251112T200000
DTSTAMP:20260426T003828
CREATED:20250724T124627Z
LAST-MODIFIED:20251215T151136Z
UID:9466-1762972200-1762977600@www.cymmrodorion.org
SUMMARY:Steel in Twentieth Century Wales
DESCRIPTION:Professor Louise Miskell\nSwansea University \nOnline only
URL:https://www.cymmrodorion.org/talk/steel-in-twentieth-century-wales/
LOCATION:Online Only
ATTACH;FMTTYPE=image/jpeg:https://www.cymmrodorion.org/wp-content/uploads/2025/07/Steel-20th-Century-Wales-Louise-Miskell.jpg
END:VEVENT
BEGIN:VEVENT
DTSTART;TZID=Europe/London:20251209T183000
DTEND;TZID=Europe/London:20251209T200000
DTSTAMP:20260426T003828
CREATED:20251027T101730Z
LAST-MODIFIED:20251217T163003Z
UID:9644-1765305000-1765310400@www.cymmrodorion.org
SUMMARY:Wales Matters: The new Political Landscape in Wales
DESCRIPTION:Will Hayward: Guardian columnist on Wales\, author and publisher of the award-winning The Will Hayward Newsletter on Wales. \nBook a place below to join IN PERSON  at the London Welsh Centre\, 57-163 Grays Inn Rd\, London WC1X 8UE or LIVE ONLINE. \nBook your place here…
URL:https://www.cymmrodorion.org/talk/wales-matters-the-new-political-landscape-in-wales/
LOCATION:The London Welsh Centre\, 157-163 Grays inn Road\, London\, WC1X 8UE\, United Kingdom
ATTACH;FMTTYPE=image/jpeg:https://www.cymmrodorion.org/wp-content/uploads/2025/10/Pic-of-Will-Hayward.jpg
END:VEVENT
BEGIN:VEVENT
DTSTART;TZID=Europe/London:20260122T183000
DTEND;TZID=Europe/London:20260122T200000
DTSTAMP:20260426T003828
CREATED:20250724T125428Z
LAST-MODIFIED:20250724T125428Z
UID:9467-1769106600-1769112000@www.cymmrodorion.org
SUMMARY:'Servant of Two Tongues': The Rise and Fall of Television Wales and the West (TWW)
DESCRIPTION:Professor Jamie Medhurst\nAberystwyth University
URL:https://www.cymmrodorion.org/talk/rise-and-fall-of-television-wales-and-the-west-tww/
LOCATION:Online Only
ATTACH;FMTTYPE=image/jpeg:https://www.cymmrodorion.org/wp-content/uploads/2025/07/Television-Wales-West-Jamie-Medhurst.jpg
END:VEVENT
BEGIN:VEVENT
DTSTART;TZID=Europe/London:20260219T183000
DTEND;TZID=Europe/London:20260219T200000
DTSTAMP:20260426T003828
CREATED:20250724T135807Z
LAST-MODIFIED:20260220T101808Z
UID:9468-1771525800-1771531200@www.cymmrodorion.org
SUMMARY:Powis Castle: Exploring Myths from the 18th Century
DESCRIPTION:Melvin Humphreys\nHonorary Research Associate\, Bangor University \nThe June Gruffydd Memorial Lecture\nIn association with the Montgomeryshire Society
URL:https://www.cymmrodorion.org/talk/powis-castle-exploring-myths-18th-century/
LOCATION:The Medical Society of London\, 11 Chandos Street\, London\, W1G 9EB\, United Kingdom
ATTACH;FMTTYPE=image/jpeg:https://www.cymmrodorion.org/wp-content/uploads/2025/07/Powis-Castle-Melvyn-Humphreys.jpg
END:VEVENT
BEGIN:VEVENT
DTSTART;TZID=Europe/London:20260317T183000
DTEND;TZID=Europe/London:20260317T203000
DTSTAMP:20260426T003828
CREATED:20260220T102145Z
LAST-MODIFIED:20260323T084015Z
UID:9820-1773772200-1773779400@www.cymmrodorion.org
SUMMARY:Wales Matters: A higher education system in Wales or for Wales? The crisis facing Welsh universities.
DESCRIPTION:The financial and other challenges facing universities in Wales\, as in the UK more generally\, have been widely reported. The solutions are more difficult to determine and are the subject of extensive discussion. In this session of Wales Matters\, Professor Dylan Jones-Evans\, who has been a notable contributor to the debate over higher education in Wales on the BBC\, ITV and S4C\, online\, and through his for the Daily Post and Western Mail\, will offer some thoughts\, for discussion\, on the options. \nDylan Jones-Evans has held senior positions in several universities including Cardiff\, Bangor\, UWE Bristol and South Wales and is Visiting Professor at Turku University and Aston University. He is well-known as a passionate advocate of entrepreneurship in the Welsh economy and as the co-founder of the IDEAS community\, home of the UK Fast Growth Index\, the UK Startup Awards\, and the Wales Start-up Awards among others. He is currently developing a new enterprise centre at Bodlondeb\, Conwy to support young people into business. \nThe event will offer you the opportunity to bring your own insights on this challenging period in Welsh higher education.\nBook ahead for ONLINE or IN PERSON at the London Welsh Centre. \nFree but you are invited to give an optional donation to LWC.\nThose joining online will be sent a link before the event. \nBook online here
URL:https://www.cymmrodorion.org/talk/wales-matters-a-higher-education-system-in-wales-or-for-wales-the-crisis-facing-welsh-universities/
LOCATION:London Welsh Centre\, London Welsh Centre\, 157-163 Grays Inn Rd\, London\, WC1X 8UE
ATTACH;FMTTYPE=image/jpeg:https://www.cymmrodorion.org/wp-content/uploads/2026/02/Dylan-Jones.jpg
END:VEVENT
BEGIN:VEVENT
DTSTART;TZID=Europe/London:20260423T183000
DTEND;TZID=Europe/London:20260423T200000
DTSTAMP:20260426T003828
CREATED:20250724T135820Z
LAST-MODIFIED:20250724T135837Z
UID:9469-1776969000-1776974400@www.cymmrodorion.org
SUMMARY:Medical Education: Creating Doctors From Wales\, For Wales
DESCRIPTION:Professor Angharad Puw-Davies\nNorth Wales Medical School
URL:https://www.cymmrodorion.org/talk/medical-education-creating-doctors-from-wales-for-wales/
LOCATION:Online Only
ATTACH;FMTTYPE=image/jpeg:https://www.cymmrodorion.org/wp-content/uploads/2025/07/Medical-Education-Wales-Angharad-Puw-Davies.jpg
END:VEVENT
BEGIN:VEVENT
DTSTART;TZID=Europe/London:20260514T183000
DTEND;TZID=Europe/London:20260514T200000
DTSTAMP:20260426T003828
CREATED:20250724T135939Z
LAST-MODIFIED:20250724T135939Z
UID:9470-1778783400-1778788800@www.cymmrodorion.org
SUMMARY:Frank Lloyd Wright: The Requisites of Genius
DESCRIPTION:Jonathan Adams\nJonathan Adams & Partners\, Architects
URL:https://www.cymmrodorion.org/talk/frank-lloyd-wright-the-requisites-of-genius/
LOCATION:The London Welsh Centre\, 157-163 Grays inn Road\, London\, WC1X 8UE\, United Kingdom
ATTACH;FMTTYPE=image/jpeg:https://www.cymmrodorion.org/wp-content/uploads/2025/07/Frank-Lloyd-Wright-Jonathan-Adams.jpg
END:VEVENT
BEGIN:VEVENT
DTSTART;TZID=Europe/London:20260804T160000
DTEND;TZID=Europe/London:20260804T173000
DTSTAMP:20260426T003828
CREATED:20260309T083605Z
LAST-MODIFIED:20260309T095214Z
UID:9844-1785859200-1785864600@www.cymmrodorion.org
SUMMARY:TIRWEDDAU TU CHWITH ALLAN: BYDOEDD TANDDAEAROL CYMRU’R CYFNOD RHAMANTAIDD
DESCRIPTION:Awst 2026\, Maes yr Eisteddfod \nYr Athro Mary-Ann Constantine\nCanolfan Uwchefrydiau Cymreig a Cheltaidd \nCymdeithasau 1\, Eisteddfod Genedlaethol y Garreg Las \nSimultaneous translation provided for this lecture on The Underscapes of Wales 1750-1820. \nProfessor Mary-Ann Constantine\nCentre for Advanced Welsh and Celtic Studies
URL:https://www.cymmrodorion.org/talk/tirweddau-tu-chwith-allan-bydoedd-tanddaearol-cymrur-cyfnod-rhamantaidd/
LOCATION:The National Eisteddfod\, Cymdeithasau 1\, Eisteddfod Genedlaethol y Garreg Las\, United Kingdom
ATTACH;FMTTYPE=image/png:https://www.cymmrodorion.org/wp-content/uploads/2026/03/Screenshot-2026-03-09-at-08.32.06.png
END:VEVENT
END:VCALENDAR